BEGIN:VCALENDAR
VERSION:2.0
PRODID:-//Ricardo Vicente • Caligrafía - ECPv6.15.14//NONSGML v1.0//EN
CALSCALE:GREGORIAN
METHOD:PUBLISH
X-WR-CALNAME:Ricardo Vicente • Caligrafía
X-ORIGINAL-URL:https://www.ricardovicente.com
X-WR-CALDESC:Eventos para Ricardo Vicente • Caligrafía
REFRESH-INTERVAL;VALUE=DURATION:PT1H
X-Robots-Tag:noindex
X-PUBLISHED-TTL:PT1H
BEGIN:VTIMEZONE
TZID:Europe/Madrid
BEGIN:DAYLIGHT
TZOFFSETFROM:+0100
TZOFFSETTO:+0200
TZNAME:CEST
DTSTART:20230326T010000
END:DAYLIGHT
BEGIN:STANDARD
TZOFFSETFROM:+0200
TZOFFSETTO:+0100
TZNAME:CET
DTSTART:20231029T010000
END:STANDARD
BEGIN:DAYLIGHT
TZOFFSETFROM:+0100
TZOFFSETTO:+0200
TZNAME:CEST
DTSTART:20240331T010000
END:DAYLIGHT
BEGIN:STANDARD
TZOFFSETFROM:+0200
TZOFFSETTO:+0100
TZNAME:CET
DTSTART:20241027T010000
END:STANDARD
BEGIN:DAYLIGHT
TZOFFSETFROM:+0100
TZOFFSETTO:+0200
TZNAME:CEST
DTSTART:20250330T010000
END:DAYLIGHT
BEGIN:STANDARD
TZOFFSETFROM:+0200
TZOFFSETTO:+0100
TZNAME:CET
DTSTART:20251026T010000
END:STANDARD
END:VTIMEZONE
BEGIN:VEVENT
DTSTART;TZID=Europe/Madrid:20240702T000000
DTEND;TZID=Europe/Madrid:20240702T235959
DTSTAMP:20260422T222054
CREATED:20240628T154227Z
LAST-MODIFIED:20240710T083229Z
UID:376-1719878400-1719964799@www.ricardovicente.com
SUMMARY:Exposición "ARS SCRIBENDI" en La Olmeda
DESCRIPTION:El próximo 2 de julio se inaugura la exposición «ARS SCRIBENDI. Con pincel\, pluma y cincel» en la Villa Romana de la Olmeda\, en Palencia\, con motivo de la programación «CVLTVRO 2024» de la propia villa romana para este año\, organizado por la Diputación Provincial de Palencia. La exposición mostrará piezas de piedra\, papiro\, pergamino y papel para conocer a fondo la escritura como canal de comunicación en la antigüedad\, hasta diciembre. \nEl día de la inauguración se realizará una visita guiada a la exposición. Además\, en fechas señaladas (14 de septiembre y 12 de octubre) se realizarán talleres de caligrafía en la Olmeda.
URL:https://www.ricardovicente.com/intervenciones/exposicion-ars-scribendi-en-la-olmeda/
LOCATION:Villa Romana La Olmeda\, Pedrosa de la Vega\, Palencia\, 34116\, España
END:VEVENT
END:VCALENDAR