BEGIN:VCALENDAR
VERSION:2.0
PRODID:-//Ricardo Vicente • Caligrafía - ECPv6.15.14//NONSGML v1.0//EN
CALSCALE:GREGORIAN
METHOD:PUBLISH
X-ORIGINAL-URL:https://www.ricardovicente.com
X-WR-CALDESC:Eventos para Ricardo Vicente • Caligrafía
REFRESH-INTERVAL;VALUE=DURATION:PT1H
X-Robots-Tag:noindex
X-PUBLISHED-TTL:PT1H
BEGIN:VTIMEZONE
TZID:Europe/Madrid
BEGIN:DAYLIGHT
TZOFFSETFROM:+0100
TZOFFSETTO:+0200
TZNAME:CEST
DTSTART:20230326T010000
END:DAYLIGHT
BEGIN:STANDARD
TZOFFSETFROM:+0200
TZOFFSETTO:+0100
TZNAME:CET
DTSTART:20231029T010000
END:STANDARD
BEGIN:DAYLIGHT
TZOFFSETFROM:+0100
TZOFFSETTO:+0200
TZNAME:CEST
DTSTART:20240331T010000
END:DAYLIGHT
BEGIN:STANDARD
TZOFFSETFROM:+0200
TZOFFSETTO:+0100
TZNAME:CET
DTSTART:20241027T010000
END:STANDARD
BEGIN:DAYLIGHT
TZOFFSETFROM:+0100
TZOFFSETTO:+0200
TZNAME:CEST
DTSTART:20250330T010000
END:DAYLIGHT
BEGIN:STANDARD
TZOFFSETFROM:+0200
TZOFFSETTO:+0100
TZNAME:CET
DTSTART:20251026T010000
END:STANDARD
END:VTIMEZONE
BEGIN:VEVENT
DTSTART;TZID=Europe/Madrid:20240803T000000
DTEND;TZID=Europe/Madrid:20240803T235959
DTSTAMP:20260422T204005
CREATED:20240628T154708Z
LAST-MODIFIED:20240710T083229Z
UID:379-1722643200-1722729599@www.ricardovicente.com
SUMMARY:Aula de caligrafía medieval en Peracense
DESCRIPTION:Ven a aprender caligrafía medieval en el Encuentro de Recreación Medieval Castillo de Peracense\, realizada en el castillo de Peracense (Teruel) el próximo 3 de agosto. Realizaremos sesiones de mañana y tarde en las que llevaremos a cabo prácticas de caligrafía medieval en varios estilos. La actividad es apta para todos los públicos y no requiere experiencia previa. ¡Te esperamos!
URL:https://www.ricardovicente.com/intervenciones/aula-de-caligrafia-medieval-en-peracense/
LOCATION:Castillo de Peracense\, Peracense\, Teruel\, 44369\, España
END:VEVENT
BEGIN:VEVENT
DTSTART;TZID=Europe/Madrid:20240812T113000
DTEND;TZID=Europe/Madrid:20240812T180000
DTSTAMP:20260422T204005
CREATED:20240731T153105Z
LAST-MODIFIED:20240731T155520Z
UID:843-1723462200-1723485600@www.ricardovicente.com
SUMMARY:Taller de Caligrafía Histórica en el Monasterio de San Victorián (Sobrarbe)
DESCRIPTION:Se presentarán dos sesiones independientes \n\n\n\n1ª Sesión de 11:30 a 13:30 & 2ª Sesión de 18 a 20
URL:https://www.ricardovicente.com/intervenciones/taller-de-caligrafia-historica-en-el-monasterio-de-san-victorian-sobrarbe/
ORGANIZER;CN="Organiza Comarca de Sobrarbe":MAILTO:servicios@sobrarbe.com
END:VEVENT
BEGIN:VEVENT
DTSTART;TZID=Europe/Madrid:20240815T110000
DTEND;TZID=Europe/Madrid:20240815T130000
DTSTAMP:20260422T204005
CREATED:20240628T155003Z
LAST-MODIFIED:20240711T120833Z
UID:382-1723719600-1723726800@www.ricardovicente.com
SUMMARY:Caligrafía Humanística en Jaca
DESCRIPTION:Estaremos en la Feria del Libro de Jaca el próximo 15 de agosto. Únete a nosotros para aprender caligrafía del Renacimiento\, para público general (adulto\, juvenil e infantil a partir de 10 años).
URL:https://www.ricardovicente.com/intervenciones/caligrafia-celtica-en-jaca/
LOCATION:Jaca\, Jaca\, Huesca\, 22700\, España
END:VEVENT
BEGIN:VEVENT
DTSTART;TZID=Europe/Madrid:20240830T120000
DTEND;TZID=Europe/Madrid:20240830T140000
DTSTAMP:20260422T204005
CREATED:20240628T155208Z
LAST-MODIFIED:20240710T083229Z
UID:385-1725019200-1725026400@www.ricardovicente.com
SUMMARY:Taller de CERAE/PÍNAKES en la Olmeda
DESCRIPTION:Con motivo de la programación «CVLTVRA 2024» de la Villa Romana de la Olmeda\, en Palencia\, realizaremos un taller de escritura romana cursiva y griega arcaica el próximo 30 de agosto. Se realizarán dos sesiones\, de 12 a 14h y de 16 a 18h.
URL:https://www.ricardovicente.com/intervenciones/taller-de-cerae-pinakes-en-la-olmeda/
LOCATION:Villa Romana La Olmeda\, Pedrosa de la Vega\, Palencia\, 34116\, España
END:VEVENT
BEGIN:VEVENT
DTSTART;TZID=Europe/Madrid:20240830T160000
DTEND;TZID=Europe/Madrid:20240830T180000
DTSTAMP:20260422T204005
CREATED:20240628T155246Z
LAST-MODIFIED:20240710T083229Z
UID:388-1725033600-1725040800@www.ricardovicente.com
SUMMARY:Taller de CERAE/PÍNAKES en la Olmeda
DESCRIPTION:Con motivo de la programación «CVLTVRA 2024» de la Villa Romana de la Olmeda\, en Palencia\, realizaremos un taller de escritura romana cursiva y griega arcaica el próximo 30 de agosto. Se realizarán dos sesiones\, de 12 a 14h y de 16 a 18h.
URL:https://www.ricardovicente.com/intervenciones/taller-de-cerae-pinakes-en-la-olmeda-2/
END:VEVENT
END:VCALENDAR