BEGIN:VCALENDAR
VERSION:2.0
PRODID:-//Ricardo Vicente • Caligrafía - ECPv6.15.14//NONSGML v1.0//EN
CALSCALE:GREGORIAN
METHOD:PUBLISH
X-WR-CALNAME:Ricardo Vicente • Caligrafía
X-ORIGINAL-URL:https://www.ricardovicente.com
X-WR-CALDESC:Eventos para Ricardo Vicente • Caligrafía
REFRESH-INTERVAL;VALUE=DURATION:PT1H
X-Robots-Tag:noindex
X-PUBLISHED-TTL:PT1H
BEGIN:VTIMEZONE
TZID:Europe/Madrid
BEGIN:DAYLIGHT
TZOFFSETFROM:+0100
TZOFFSETTO:+0200
TZNAME:CEST
DTSTART:20230326T010000
END:DAYLIGHT
BEGIN:STANDARD
TZOFFSETFROM:+0200
TZOFFSETTO:+0100
TZNAME:CET
DTSTART:20231029T010000
END:STANDARD
BEGIN:DAYLIGHT
TZOFFSETFROM:+0100
TZOFFSETTO:+0200
TZNAME:CEST
DTSTART:20240331T010000
END:DAYLIGHT
BEGIN:STANDARD
TZOFFSETFROM:+0200
TZOFFSETTO:+0100
TZNAME:CET
DTSTART:20241027T010000
END:STANDARD
BEGIN:DAYLIGHT
TZOFFSETFROM:+0100
TZOFFSETTO:+0200
TZNAME:CEST
DTSTART:20250330T010000
END:DAYLIGHT
BEGIN:STANDARD
TZOFFSETFROM:+0200
TZOFFSETTO:+0100
TZNAME:CET
DTSTART:20251026T010000
END:STANDARD
END:VTIMEZONE
BEGIN:VEVENT
DTSTART;TZID=Europe/Madrid:20240921T100000
DTEND;TZID=Europe/Madrid:20240921T190000
DTSTAMP:20260422T184933
CREATED:20240902T100604Z
LAST-MODIFIED:20240902T100820Z
UID:860-1726912800-1726945200@www.ricardovicente.com
SUMMARY:TALLER DE CALIGRAFÍA MEDIEVAL: Árabe\, hebrea y latina
DESCRIPTION:Las escrituras en la época de la villa de Los Puentes \n\n\n\n\n\n \n\n\n\nFeria Medieval de Ballobar (Huesca)
URL:https://www.ricardovicente.com/intervenciones/taller-de-caligrafia-medieval-arabe-hebrea-y-latina/
END:VEVENT
BEGIN:VEVENT
DTSTART;TZID=Europe/Madrid:20240928T100000
DTEND;TZID=Europe/Madrid:20240928T190000
DTSTAMP:20260422T184933
CREATED:20240902T101607Z
LAST-MODIFIED:20240902T101608Z
UID:862-1727517600-1727550000@www.ricardovicente.com
SUMMARY:TALLER DE CALIGRAFÍA ÁRABE\, HEBREA Y LATINA
DESCRIPTION:LAS ESCRITURAS EN LA ÁPOCA DE LA REINA PETRONILA \n\n\n\nBARBASTRO (HUESCA)
URL:https://www.ricardovicente.com/intervenciones/taller-de-caligrafia-arabe-hebrea-y-latina/
END:VEVENT
END:VCALENDAR