BEGIN:VCALENDAR
VERSION:2.0
PRODID:-//Ricardo Vicente • Caligrafía - ECPv6.15.14//NONSGML v1.0//EN
CALSCALE:GREGORIAN
METHOD:PUBLISH
X-ORIGINAL-URL:https://www.ricardovicente.com
X-WR-CALDESC:Eventos para Ricardo Vicente • Caligrafía
REFRESH-INTERVAL;VALUE=DURATION:PT1H
X-Robots-Tag:noindex
X-PUBLISHED-TTL:PT1H
BEGIN:VTIMEZONE
TZID:Europe/Madrid
BEGIN:DAYLIGHT
TZOFFSETFROM:+0100
TZOFFSETTO:+0200
TZNAME:CEST
DTSTART:20240331T010000
END:DAYLIGHT
BEGIN:STANDARD
TZOFFSETFROM:+0200
TZOFFSETTO:+0100
TZNAME:CET
DTSTART:20241027T010000
END:STANDARD
BEGIN:DAYLIGHT
TZOFFSETFROM:+0100
TZOFFSETTO:+0200
TZNAME:CEST
DTSTART:20250330T010000
END:DAYLIGHT
BEGIN:STANDARD
TZOFFSETFROM:+0200
TZOFFSETTO:+0100
TZNAME:CET
DTSTART:20251026T010000
END:STANDARD
BEGIN:DAYLIGHT
TZOFFSETFROM:+0100
TZOFFSETTO:+0200
TZNAME:CEST
DTSTART:20260329T010000
END:DAYLIGHT
BEGIN:STANDARD
TZOFFSETFROM:+0200
TZOFFSETTO:+0100
TZNAME:CET
DTSTART:20261025T010000
END:STANDARD
END:VTIMEZONE
BEGIN:VEVENT
DTSTART;TZID=Europe/Madrid:20250601T183000
DTEND;TZID=Europe/Madrid:20250601T200000
DTSTAMP:20260422T025758
CREATED:20250528T085815Z
LAST-MODIFIED:20250528T085815Z
UID:927-1748802600-1748808000@www.ricardovicente.com
SUMMARY:Taller CALIGRAFÍA EXPRESIVA Y DINÁMICA PARA TODOS
DESCRIPTION:Feria del Libro de Huesca \n\n\n\nPlaza del Mercado\, Huesca
URL:https://www.ricardovicente.com/intervenciones/taller-caligrafia-expresiva-y-dinamica-para-todos/
END:VEVENT
BEGIN:VEVENT
DTSTART;TZID=Europe/Madrid:20250606T180000
DTEND;TZID=Europe/Madrid:20250606T200000
DTSTAMP:20260422T025758
CREATED:20250527T182140Z
LAST-MODIFIED:20250527T182141Z
UID:916-1749232800-1749240000@www.ricardovicente.com
SUMMARY:CALIGRAFÍA HEBREA SEFARDI
DESCRIPTION:Biblioteca Pública de Zaragoza
URL:https://www.ricardovicente.com/intervenciones/caligrafia-hebrea-sefardi/
END:VEVENT
BEGIN:VEVENT
DTSTART;TZID=Europe/Madrid:20250607T123000
DTEND;TZID=Europe/Madrid:20250607T140000
DTSTAMP:20260422T025758
CREATED:20250528T085451Z
LAST-MODIFIED:20250528T085452Z
UID:925-1749299400-1749304800@www.ricardovicente.com
SUMMARY:La naturaleza de las escrituras CALIGRAFÍA DE LAS LETRAS DINÁMICAS Y EXPRESIVAS
DESCRIPTION:Feria del Libro de Zaragoza \n\n\n\nParque Grande José Antonio Labordeta\, Zaragoza
URL:https://www.ricardovicente.com/intervenciones/la-naturaleza-de-las-escrituras-caligrafia-de-las-letras-dinamicas-y-expresivas/
END:VEVENT
BEGIN:VEVENT
DTSTART;TZID=Europe/Madrid:20250609T110000
DTEND;TZID=Europe/Madrid:20250609T130000
DTSTAMP:20260422T025758
CREATED:20250604T125554Z
LAST-MODIFIED:20250604T125554Z
UID:930-1749466800-1749474000@www.ricardovicente.com
SUMMARY:CALIGRAFÍA ÁRABE
DESCRIPTION:Sesión de caligrafía árabe donde se presentarán algunos de los cálamos fundamentales\, cursivos y epigráficos \n\n\n\nEn el Archivo Histórico Provincial de Zaragoza
URL:https://www.ricardovicente.com/intervenciones/caligrafia-arabe/
END:VEVENT
BEGIN:VEVENT
DTSTART;TZID=Europe/Madrid:20250610T100000
DTEND;TZID=Europe/Madrid:20250610T120000
DTSTAMP:20260422T025758
CREATED:20250608T123738Z
LAST-MODIFIED:20250608T123739Z
UID:932-1749549600-1749556800@www.ricardovicente.com
SUMMARY:CALIGRAFÍA ITÁLICA
DESCRIPTION:En el Archivo Histórico Provincial de Teruel
URL:https://www.ricardovicente.com/intervenciones/caligrafia-italica/
END:VEVENT
BEGIN:VEVENT
DTSTART;TZID=Europe/Madrid:20250611T110000
DTEND;TZID=Europe/Madrid:20250611T130000
DTSTAMP:20260422T025758
CREATED:20250608T124006Z
LAST-MODIFIED:20250608T124128Z
UID:934-1749639600-1749646800@www.ricardovicente.com
SUMMARY:CALIGRAFÍA BASTARDA
DESCRIPTION:Las escrituras de los siglos XVII y XVIII \n\n\n\nEn el Archivo Histórico Provincial de Huesca
URL:https://www.ricardovicente.com/intervenciones/caligrafia-bastarda/
END:VEVENT
BEGIN:VEVENT
DTSTART;TZID=Europe/Madrid:20250612T110000
DTEND;TZID=Europe/Madrid:20250612T130000
DTSTAMP:20260422T025758
CREATED:20250608T124455Z
LAST-MODIFIED:20250608T124455Z
UID:938-1749726000-1749733200@www.ricardovicente.com
SUMMARY:CALIGRAFÍA ALJAMIADA
DESCRIPTION:Las escrituras de los moriscos aragoneses \n\n\n\n\n\nEn el Archivo Histórico Municipal de Zaragoza
URL:https://www.ricardovicente.com/intervenciones/caligrafia-aljamiada/
END:VEVENT
BEGIN:VEVENT
DTSTART;TZID=Europe/Madrid:20250613T170000
DTEND;TZID=Europe/Madrid:20250613T190000
DTSTAMP:20260422T025758
CREATED:20250608T125319Z
LAST-MODIFIED:20250608T125319Z
UID:940-1749834000-1749841200@www.ricardovicente.com
SUMMARY:CALIGRAFÍA MEDIEVAL
DESCRIPTION:Las escrituras de los siglos IX-XI \n\n\n\n\n\nEn la Biblioteca Ildefonso Manuel Gil \n\n\n\nDiputación Provincial de Zaragoza
URL:https://www.ricardovicente.com/intervenciones/caligrafia-medieval-2/
END:VEVENT
BEGIN:VEVENT
DTSTART;TZID=Europe/Madrid:20250617T093000
DTEND;TZID=Europe/Madrid:20250617T123000
DTSTAMP:20260422T025758
CREATED:20250617T175922Z
LAST-MODIFIED:20250617T175922Z
UID:943-1750152600-1750163400@www.ricardovicente.com
SUMMARY:CON CAÑA\, PLUMA & TINTERO
DESCRIPTION:Recorrido por las escrituras y alfabetos del mundo \n\n\n\nCon los alumnos de Primaria del Colegio Público Víctor Mendoza \n\n\n\nEn la Sala de Exposiciones del Ayuntamiento de Binéfar \n\n\n\n\n\nCon motivo de la Semana Internacional de los Archivos
URL:https://www.ricardovicente.com/intervenciones/con-cana-pluma-tintero/
END:VEVENT
BEGIN:VEVENT
DTSTART;TZID=Europe/Madrid:20250618T093000
DTEND;TZID=Europe/Madrid:20250618T123000
DTSTAMP:20260422T025758
CREATED:20250617T180311Z
LAST-MODIFIED:20250617T180311Z
UID:945-1750239000-1750249800@www.ricardovicente.com
SUMMARY:CON CAÑA\, PLUMA & TINTERO
DESCRIPTION:Recorridos por las escrituras y alfabetos del mundo \n\n\n\nCon los alumnos de Primaria del Colegio Público Víctor Mendoza \n\n\n\nEn la sala de Exposiciones del Ayuntamiento de Binéfar (Huesca)
URL:https://www.ricardovicente.com/intervenciones/con-cana-pluma-tintero-2/
END:VEVENT
END:VCALENDAR