BEGIN:VCALENDAR
VERSION:2.0
PRODID:-//Ricardo Vicente • Caligrafía - ECPv6.15.14//NONSGML v1.0//EN
CALSCALE:GREGORIAN
METHOD:PUBLISH
X-WR-CALNAME:Ricardo Vicente • Caligrafía
X-ORIGINAL-URL:https://www.ricardovicente.com
X-WR-CALDESC:Eventos para Ricardo Vicente • Caligrafía
REFRESH-INTERVAL;VALUE=DURATION:PT1H
X-Robots-Tag:noindex
X-PUBLISHED-TTL:PT1H
BEGIN:VTIMEZONE
TZID:Europe/Madrid
BEGIN:DAYLIGHT
TZOFFSETFROM:+0100
TZOFFSETTO:+0200
TZNAME:CEST
DTSTART:20240331T010000
END:DAYLIGHT
BEGIN:STANDARD
TZOFFSETFROM:+0200
TZOFFSETTO:+0100
TZNAME:CET
DTSTART:20241027T010000
END:STANDARD
BEGIN:DAYLIGHT
TZOFFSETFROM:+0100
TZOFFSETTO:+0200
TZNAME:CEST
DTSTART:20250330T010000
END:DAYLIGHT
BEGIN:STANDARD
TZOFFSETFROM:+0200
TZOFFSETTO:+0100
TZNAME:CET
DTSTART:20251026T010000
END:STANDARD
BEGIN:DAYLIGHT
TZOFFSETFROM:+0100
TZOFFSETTO:+0200
TZNAME:CEST
DTSTART:20260329T010000
END:DAYLIGHT
BEGIN:STANDARD
TZOFFSETFROM:+0200
TZOFFSETTO:+0100
TZNAME:CET
DTSTART:20261025T010000
END:STANDARD
BEGIN:DAYLIGHT
TZOFFSETFROM:+0100
TZOFFSETTO:+0200
TZNAME:CEST
DTSTART:20270328T010000
END:DAYLIGHT
BEGIN:STANDARD
TZOFFSETFROM:+0200
TZOFFSETTO:+0100
TZNAME:CET
DTSTART:20271031T010000
END:STANDARD
END:VTIMEZONE
BEGIN:VEVENT
DTSTART;TZID=Europe/Madrid:20251119T180000
DTEND;TZID=Europe/Madrid:20251119T200000
DTSTAMP:20260418T084054
CREATED:20251106T183515Z
LAST-MODIFIED:20251106T183515Z
UID:967-1763575200-1763582400@www.ricardovicente.com
SUMMARY:CALIGRAFÍA HISTÓRICA
DESCRIPTION:LAS ESCRITURAS EN LA ÉPOCA DE CERVANTES \n\n\n\nSesión en la que se presenta algunos de los modelos de bastardilla española\, a partir de los tratados caligráficos de los siglos xvi y xvii \n\n\n\nBIBLIOTECA DE ARAGÓN \n\n\n\n19 de noviembre de 20219 \n\n\n\nDe 18 a 20h
URL:https://www.ricardovicente.com/intervenciones/caligrafia-historica-3/
END:VEVENT
BEGIN:VEVENT
DTSTART;TZID=Europe/Madrid:20251120T183000
DTEND;TZID=Europe/Madrid:20251120T203000
DTSTAMP:20260418T084054
CREATED:20251106T184005Z
LAST-MODIFIED:20251106T184005Z
UID:969-1763663400-1763670600@www.ricardovicente.com
SUMMARY:BASTARDILLA ESPAÑOLA
DESCRIPTION:Sesión de CALIGRAFÍA HISTÓRICA: Las escrituras en la época de Miguel de Cervantes \n\n\n\nBiblioteca Pública de Huesca
URL:https://www.ricardovicente.com/intervenciones/bastardilla-espanola/
END:VEVENT
BEGIN:VEVENT
DTSTART;TZID=Europe/Madrid:20251125T000000
DTEND;TZID=Europe/Madrid:20260225T235959
DTSTAMP:20260418T084054
CREATED:20260115T183525Z
LAST-MODIFIED:20260115T183525Z
UID:982-1764028800-1772063999@www.ricardovicente.com
SUMMARY:Exposición Ars Scribendi
DESCRIPTION:
URL:https://www.ricardovicente.com/intervenciones/exposicion-ars-scribendi/
LOCATION:Yacimiento Arqueológico de Complutum\, Alcalá de Henares\, Camino del Juncal\, Alcalá de Henares\, Spain
CATEGORIES:Exposiciones
END:VEVENT
END:VCALENDAR